BEGIN:VCALENDAR
VERSION:2.0
PRODID:spatie/icalendar-generator
DESCRIPTION:Events from Stockport Community Cycling Club
X-WR-CALDESC:Events from Stockport Community Cycling Club
REFRESH-INTERVAL;VALUE=DURATION:PT1440M
X-PUBLISHED-TTL:PT1440M
BEGIN:VTIMEZONE
TZID:Etc/GMT+0
BEGIN:STANDARD
DTSTART:20241002T000000Z
TZOFFSETFROM:+0000
TZOFFSETTO:+0000
END:STANDARD
END:VTIMEZONE
BEGIN:VTIMEZONE
TZID:UTC
BEGIN:STANDARD
DTSTART:20250725T124705Z
TZOFFSETFROM:+0000
TZOFFSETTO:+0000
END:STANDARD
END:VTIMEZONE
BEGIN:VEVENT
UID:188-77
DTSTAMP:20260421T124705Z
SUMMARY:Thor Bridge
LOCATION:
ORGANIZER;CN=sccc:MAILTO:info@sccc.co.uk
DTSTART;TZID=Etc/GMT+0;VALUE=DATE:20250629
DTEND;TZID=Etc/GMT+0;VALUE=DATE:20250630
X-ALT-DESC;FMTTYPE=TEXT/HTML:
CATEGORIES:Sunday Rides
URL;VALUE=URI:https://www.sccc.co.uk/mc-events/thor-bridge/?mc_id=188
END:VEVENT
END:VCALENDAR