BEGIN:VCALENDAR
VERSION:2.0
PRODID:spatie/icalendar-generator
DESCRIPTION:Events from Stockport Community Cycling Club
X-WR-CALDESC:Events from Stockport Community Cycling Club
REFRESH-INTERVAL;VALUE=DURATION:PT1440M
X-PUBLISHED-TTL:PT1440M
BEGIN:VTIMEZONE
TZID:Etc/GMT+0
BEGIN:STANDARD
DTSTART:20250610T000000Z
TZOFFSETFROM:+0000
TZOFFSETTO:+0000
END:STANDARD
END:VTIMEZONE
BEGIN:VTIMEZONE
TZID:UTC
BEGIN:STANDARD
DTSTART:20250724T093326Z
TZOFFSETFROM:+0000
TZOFFSETTO:+0000
END:STANDARD
END:VTIMEZONE
BEGIN:VEVENT
UID:335-166
DTSTAMP:20260420T093326Z
SUMMARY:Curry Evening Social
LOCATION:
ORGANIZER;CN=Andy Pennell:MAILTO:andycooll@gmail.com
DTSTART;TZID=Etc/GMT+0;VALUE=DATE:20260307
DTEND;TZID=Etc/GMT+0;VALUE=DATE:20260308
X-ALT-DESC;FMTTYPE=TEXT/HTML:
CATEGORIES:General
URL;VALUE=URI:https://www.sccc.co.uk/mc-events/curry-evening-social/?mc_id=
 335
END:VEVENT
END:VCALENDAR