BEGIN:VCALENDAR
VERSION:2.0
PRODID:spatie/icalendar-generator
DESCRIPTION:Events from Stockport Community Cycling Club
X-WR-CALDESC:Events from Stockport Community Cycling Club
REFRESH-INTERVAL;VALUE=DURATION:PT1440M
X-PUBLISHED-TTL:PT1440M
BEGIN:VTIMEZONE
TZID:Etc/GMT+0
BEGIN:STANDARD
DTSTART:20241020T000000Z
TZOFFSETFROM:+0000
TZOFFSETTO:+0000
END:STANDARD
END:VTIMEZONE
BEGIN:VTIMEZONE
TZID:UTC
BEGIN:STANDARD
DTSTART:20250725T085015Z
TZOFFSETFROM:+0000
TZOFFSETTO:+0000
END:STANDARD
END:VTIMEZONE
BEGIN:VEVENT
UID:206-85
DTSTAMP:20260421T085015Z
SUMMARY:Longford Park
LOCATION:
ORGANIZER;CN=sccc:MAILTO:info@sccc.co.uk
DTSTART;TZID=Etc/GMT+0;VALUE=DATE:20250717
DTEND;TZID=Etc/GMT+0;VALUE=DATE:20250718
X-ALT-DESC;FMTTYPE=TEXT/HTML:
CATEGORIES:Weekday Rides
URL;VALUE=URI:https://www.sccc.co.uk/mc-events/longford-park/?mc_id=206
END:VEVENT
END:VCALENDAR