BEGIN:VCALENDAR
VERSION:2.0
PRODID:spatie/icalendar-generator
DESCRIPTION:Events from Stockport Community Cycling Club
X-WR-CALDESC:Events from Stockport Community Cycling Club
REFRESH-INTERVAL;VALUE=DURATION:PT1440M
X-PUBLISHED-TTL:PT1440M
BEGIN:VTIMEZONE
TZID:Etc/GMT+0
BEGIN:STANDARD
DTSTART:20241016T000000Z
TZOFFSETFROM:+0000
TZOFFSETTO:+0000
END:STANDARD
END:VTIMEZONE
BEGIN:VTIMEZONE
TZID:UTC
BEGIN:STANDARD
DTSTART:20250725T142650Z
TZOFFSETFROM:+0000
TZOFFSETTO:+0000
END:STANDARD
END:VTIMEZONE
BEGIN:VEVENT
UID:208-83
DTSTAMP:20260421T142650Z
SUMMARY:Anderton Boat Lift
LOCATION:
ORGANIZER;CN=sccc:MAILTO:info@sccc.co.uk
DTSTART;TZID=Etc/GMT+0;VALUE=DATE:20250713
DTEND;TZID=Etc/GMT+0;VALUE=DATE:20250714
X-ALT-DESC;FMTTYPE=TEXT/HTML:
CATEGORIES:Sunday Rides
URL;VALUE=URI:https://www.sccc.co.uk/mc-events/anderton-boat-lift/?mc_id=20
 8
END:VEVENT
END:VCALENDAR