BEGIN:VCALENDAR
VERSION:2.0
PRODID:spatie/icalendar-generator
DESCRIPTION:Events from Stockport Community Cycling Club
X-WR-CALDESC:Events from Stockport Community Cycling Club
REFRESH-INTERVAL;VALUE=DURATION:PT1440M
X-PUBLISHED-TTL:PT1440M
BEGIN:VTIMEZONE
TZID:Etc/GMT+0
BEGIN:STANDARD
DTSTART:20250427T000000Z
TZOFFSETFROM:+0000
TZOFFSETTO:+0000
END:STANDARD
END:VTIMEZONE
BEGIN:VTIMEZONE
TZID:UTC
BEGIN:STANDARD
DTSTART:20250724T235644Z
TZOFFSETFROM:+0000
TZOFFSETTO:+0000
END:STANDARD
END:VTIMEZONE
BEGIN:VEVENT
UID:254-146
DTSTAMP:20260420T235644Z
SUMMARY:Warburton and Dunham Barn
LOCATION:
ORGANIZER;CN=Andy Pennell:MAILTO:andycooll@gmail.com
DTSTART;TZID=Etc/GMT+0;VALUE=DATE:20260122
DTEND;TZID=Etc/GMT+0;VALUE=DATE:20260123
X-ALT-DESC;FMTTYPE=TEXT/HTML:
CATEGORIES:Weekday Rides
URL;VALUE=URI:https://www.sccc.co.uk/mc-events/warburton-and-dunham-barn/?m
 c_id=254
END:VEVENT
END:VCALENDAR