BEGIN:VCALENDAR
VERSION:2.0
PRODID:spatie/icalendar-generator
DESCRIPTION:Events from Stockport Community Cycling Club
X-WR-CALDESC:Events from Stockport Community Cycling Club
REFRESH-INTERVAL;VALUE=DURATION:PT1440M
X-PUBLISHED-TTL:PT1440M
BEGIN:VTIMEZONE
TZID:Etc/GMT+0
BEGIN:STANDARD
DTSTART:20250422T000000Z
TZOFFSETFROM:+0000
TZOFFSETTO:+0000
END:STANDARD
END:VTIMEZONE
BEGIN:VTIMEZONE
TZID:UTC
BEGIN:STANDARD
DTSTART:20250725T012049Z
TZOFFSETFROM:+0000
TZOFFSETTO:+0000
END:STANDARD
END:VTIMEZONE
BEGIN:VEVENT
UID:255-145
DTSTAMP:20260421T012049Z
SUMMARY:Fletcher Moss Park
LOCATION:
ORGANIZER;CN=Andy Pennell:MAILTO:andycooll@gmail.com
DTSTART;TZID=Etc/GMT+0;VALUE=DATE:20260117
DTEND;TZID=Etc/GMT+0;VALUE=DATE:20260118
X-ALT-DESC;FMTTYPE=TEXT/HTML:
CATEGORIES:Saturday Rides,  Weekday Rides
URL;VALUE=URI:https://www.sccc.co.uk/mc-events/fletcher-moss-park-2/?mc_id=
 255
END:VEVENT
END:VCALENDAR