BEGIN:VCALENDAR
VERSION:2.0
PRODID:spatie/icalendar-generator
DESCRIPTION:Events from Stockport Community Cycling Club
X-WR-CALDESC:Events from Stockport Community Cycling Club
REFRESH-INTERVAL;VALUE=DURATION:PT1440M
X-PUBLISHED-TTL:PT1440M
BEGIN:VTIMEZONE
TZID:Etc/GMT+0
BEGIN:STANDARD
DTSTART:20250408T000000Z
TZOFFSETFROM:+0000
TZOFFSETTO:+0000
END:STANDARD
END:VTIMEZONE
BEGIN:VTIMEZONE
TZID:UTC
BEGIN:STANDARD
DTSTART:20250725T114428Z
TZOFFSETFROM:+0000
TZOFFSETTO:+0000
END:STANDARD
END:VTIMEZONE
BEGIN:VEVENT
UID:259-141
DTSTAMP:20260421T114428Z
SUMMARY:Bruntwood Vinery Cafe
LOCATION:
ORGANIZER;CN=Andy Pennell:MAILTO:andycooll@gmail.com
DTSTART;TZID=Etc/GMT+0;VALUE=DATE:20260103
DTEND;TZID=Etc/GMT+0;VALUE=DATE:20260104
X-ALT-DESC;FMTTYPE=TEXT/HTML:
CATEGORIES:Saturday Rides
URL;VALUE=URI:https://www.sccc.co.uk/mc-events/bruntwood-vinery-cafe/?mc_id
 =259
END:VEVENT
END:VCALENDAR