BEGIN:VCALENDAR
VERSION:2.0
PRODID:spatie/icalendar-generator
DESCRIPTION:Events from Stockport Community Cycling Club
X-WR-CALDESC:Events from Stockport Community Cycling Club
REFRESH-INTERVAL;VALUE=DURATION:PT1440M
X-PUBLISHED-TTL:PT1440M
BEGIN:VTIMEZONE
TZID:Etc/GMT+0
BEGIN:STANDARD
DTSTART:20250510T000000Z
TZOFFSETFROM:+0000
TZOFFSETTO:+0000
END:STANDARD
END:VTIMEZONE
BEGIN:VTIMEZONE
TZID:UTC
BEGIN:STANDARD
DTSTART:20250724T192114Z
TZOFFSETFROM:+0000
TZOFFSETTO:+0000
END:STANDARD
END:VTIMEZONE
BEGIN:VEVENT
UID:287-150
DTSTAMP:20260420T192114Z
SUMMARY:Alderley Edge
LOCATION:
ORGANIZER;CN=Andy Pennell:MAILTO:andycooll@gmail.com
DTSTART;TZID=Etc/GMT+0;VALUE=DATE:20260204
DTEND;TZID=Etc/GMT+0;VALUE=DATE:20260205
X-ALT-DESC;FMTTYPE=TEXT/HTML:
CATEGORIES:Weekday Rides
URL;VALUE=URI:https://www.sccc.co.uk/mc-events/alderley-edge-2/?mc_id=287
END:VEVENT
END:VCALENDAR