BEGIN:VCALENDAR
VERSION:2.0
PRODID:spatie/icalendar-generator
DESCRIPTION:Events from Stockport Community Cycling Club
X-WR-CALDESC:Events from Stockport Community Cycling Club
REFRESH-INTERVAL;VALUE=DURATION:PT1440M
X-PUBLISHED-TTL:PT1440M
BEGIN:VTIMEZONE
TZID:Etc/GMT+0
BEGIN:STANDARD
DTSTART:20240227T000000Z
TZOFFSETFROM:+0000
TZOFFSETTO:+0000
END:STANDARD
END:VTIMEZONE
BEGIN:VTIMEZONE
TZID:UTC
BEGIN:STANDARD
DTSTART:20250723T143400Z
TZOFFSETFROM:+0000
TZOFFSETTO:+0000
END:STANDARD
END:VTIMEZONE
BEGIN:VEVENT
UID:8-8
DTSTAMP:20260419T143400Z
SUMMARY:Lymm
LOCATION:
ORGANIZER;CN=tom:MAILTO:tom@sitezo.co.uk
DTSTART;TZID=Etc/GMT+0;VALUE=DATE:20241123
DTEND;TZID=Etc/GMT+0;VALUE=DATE:20241124
X-ALT-DESC;FMTTYPE=TEXT/HTML:
CATEGORIES:Saturday Rides
URL;VALUE=URI:https://www.sccc.co.uk/mc-events/lymm/?mc_id=8
END:VEVENT
END:VCALENDAR